Package: ASGSCA Version: 1.40.0 Command: F:\biocbuild\bbs-3.20-bioc\R\bin\R.exe CMD INSTALL ASGSCA StartedAt: 2025-03-31 15:21:52 -0400 (Mon, 31 Mar 2025) EndedAt: 2025-03-31 15:22:04 -0400 (Mon, 31 Mar 2025) EllapsedTime: 12.3 seconds RetCode: 0 Status: OK