Package: ASGSCA Version: 1.40.0 Command: /home/biocbuild/bbs-3.20-bioc/R/bin/R CMD check --install=check:ASGSCA.install-out.txt --library=/home/biocbuild/bbs-3.20-bioc/R/site-library --timings ASGSCA_1.40.0.tar.gz StartedAt: 2025-03-31 19:54:04 -0400 (Mon, 31 Mar 2025) EndedAt: 2025-03-31 19:59:19 -0400 (Mon, 31 Mar 2025) EllapsedTime: 314.3 seconds RetCode: 0 Status: OK CheckDir: ASGSCA.Rcheck Warnings: 0