Package: ASGSCA Version: 1.40.0 Command: /Library/Frameworks/R.framework/Resources/bin/R CMD build --keep-empty-dirs --no-resave-data ASGSCA StartedAt: 2025-03-31 16:55:49 -0400 (Mon, 31 Mar 2025) EndedAt: 2025-03-31 17:02:24 -0400 (Mon, 31 Mar 2025) EllapsedTime: 394.3 seconds RetCode: 0 Status: OK PackageFile: ASGSCA_1.40.0.tar.gz PackageFileSize: 1.293 MiB