Package: ASGSCA Version: 1.40.0 Command: /Library/Frameworks/R.framework/Resources/bin/R CMD INSTALL ASGSCA StartedAt: 2025-03-31 15:05:37 -0400 (Mon, 31 Mar 2025) EndedAt: 2025-03-31 15:05:43 -0400 (Mon, 31 Mar 2025) EllapsedTime: 5.7 seconds RetCode: 0 Status: OK