Package: ASEB Version: 1.50.0 Command: /Library/Frameworks/R.framework/Resources/bin/R CMD build --keep-empty-dirs --no-resave-data ASEB StartedAt: 2025-03-31 16:55:48 -0400 (Mon, 31 Mar 2025) EndedAt: 2025-03-31 16:56:22 -0400 (Mon, 31 Mar 2025) EllapsedTime: 33.7 seconds RetCode: 0 Status: OK PackageFile: ASEB_1.50.0.tar.gz PackageFileSize: 602.2 KiB