Package: ASAFE Version: 1.32.0 Command: F:\biocbuild\bbs-3.20-bioc\R\bin\R.exe CMD INSTALL ASAFE StartedAt: 2025-03-31 15:20:31 -0400 (Mon, 31 Mar 2025) EndedAt: 2025-03-31 15:20:44 -0400 (Mon, 31 Mar 2025) EllapsedTime: 12.1 seconds RetCode: 0 Status: OK