Package: ASAFE Version: 1.32.0 Command: rm -rf ASAFE.buildbin-libdir && mkdir ASAFE.buildbin-libdir && F:\biocbuild\bbs-3.20-bioc\R\bin\R.exe CMD INSTALL --build --library=ASAFE.buildbin-libdir ASAFE_1.32.0.tar.gz StartedAt: 2025-04-01 07:41:15 -0400 (Tue, 01 Apr 2025) EndedAt: 2025-04-01 07:41:26 -0400 (Tue, 01 Apr 2025) EllapsedTime: 11.3 seconds RetCode: 0 Status: OK PackageFile: ASAFE_1.32.0.zip PackageFileSize: 590.6 KiB