Package: ASAFE Version: 1.32.0 Command: /home/biocbuild/bbs-3.20-bioc/R/bin/R CMD build --keep-empty-dirs --no-resave-data --md5 ASAFE StartedAt: 2025-03-31 16:11:58 -0400 (Mon, 31 Mar 2025) EndedAt: 2025-03-31 16:12:05 -0400 (Mon, 31 Mar 2025) EllapsedTime: 7.0 seconds RetCode: 0 Status: OK PackageFile: ASAFE_1.32.0.tar.gz PackageFileSize: 427.9 KiB