Package: ASAFE Version: 1.32.0 Command: /Library/Frameworks/R.framework/Resources/bin/R CMD check --install=check:ASAFE.install-out.txt --library=/Library/Frameworks/R.framework/Resources/library --no-vignettes --timings ASAFE_1.32.0.tar.gz StartedAt: 2025-03-31 23:24:30 -0400 (Mon, 31 Mar 2025) EndedAt: 2025-03-31 23:25:11 -0400 (Mon, 31 Mar 2025) EllapsedTime: 41.6 seconds RetCode: 0 Status: OK CheckDir: ASAFE.Rcheck Warnings: 0