Package: ASAFE Version: 1.32.0 Command: rm -rf ASAFE.buildbin-libdir && mkdir ASAFE.buildbin-libdir && /Users/biocbuild/BBS/utils/build-universal.sh ASAFE_1.32.0.tar.gz /Library/Frameworks/R.framework/Resources/bin/R ASAFE.buildbin-libdir StartedAt: 2025-04-01 11:25:21 -0400 (Tue, 01 Apr 2025) EndedAt: 2025-04-01 11:25:27 -0400 (Tue, 01 Apr 2025) EllapsedTime: 5.5 seconds RetCode: 0 Status: OK PackageFile: ASAFE_1.32.0.tgz PackageFileSize: 585.9 KiB