Package: ARRmNormalization Version: 1.46.0 Command: /home/biocbuild/R/R/bin/R CMD INSTALL ARRmNormalization StartedAt: 2025-03-31 20:13:22 -0000 (Mon, 31 Mar 2025) EndedAt: 2025-03-31 20:13:41 -0000 (Mon, 31 Mar 2025) EllapsedTime: 19.1 seconds RetCode: 0 Status: OK