Package: ARRmNormalization Version: 1.46.0 Command: /home/biocbuild/R/R/bin/R CMD build --keep-empty-dirs --no-resave-data ARRmNormalization StartedAt: 2025-03-31 21:23:59 -0000 (Mon, 31 Mar 2025) EndedAt: 2025-03-31 21:24:27 -0000 (Mon, 31 Mar 2025) EllapsedTime: 27.0 seconds RetCode: 0 Status: OK PackageFile: ARRmNormalization_1.46.0.tar.gz PackageFileSize: 1.066 MiB