Package: ARRmNormalization Version: 1.46.0 Command: /home/biocbuild/bbs-3.20-bioc/R/bin/R CMD check --install=check:ARRmNormalization.install-out.txt --library=/home/biocbuild/bbs-3.20-bioc/R/site-library --timings ARRmNormalization_1.46.0.tar.gz StartedAt: 2025-03-31 19:53:16 -0400 (Mon, 31 Mar 2025) EndedAt: 2025-03-31 19:55:05 -0400 (Mon, 31 Mar 2025) EllapsedTime: 109.1 seconds RetCode: 0 Status: OK CheckDir: ARRmNormalization.Rcheck Warnings: 0