Package: ARRmNormalization Version: 1.46.0 Command: /home/biocbuild/bbs-3.20-bioc/R/bin/R CMD build --keep-empty-dirs --no-resave-data --md5 ARRmNormalization StartedAt: 2025-03-31 16:11:26 -0400 (Mon, 31 Mar 2025) EndedAt: 2025-03-31 16:11:59 -0400 (Mon, 31 Mar 2025) EllapsedTime: 33.0 seconds RetCode: 0 Status: OK PackageFile: ARRmNormalization_1.46.0.tar.gz PackageFileSize: 1.076 MiB