Package: APL Version: 1.10.2 Command: chmod a+r APL -R && F:\biocbuild\bbs-3.20-bioc\R\bin\R.exe CMD build --keep-empty-dirs --no-resave-data APL StartedAt: 2025-03-31 17:22:35 -0400 (Mon, 31 Mar 2025) EndedAt: 2025-03-31 17:27:18 -0400 (Mon, 31 Mar 2025) EllapsedTime: 282.9 seconds RetCode: 0 Status: OK PackageFile: APL_1.10.2.tar.gz PackageFileSize: 1.167 MiB