Package: APAlyzer Version: 1.20.0 Command: /home/biocbuild/R/R/bin/R CMD build --keep-empty-dirs --no-resave-data APAlyzer StartedAt: 2025-03-31 21:22:11 -0000 (Mon, 31 Mar 2025) EndedAt: 2025-03-31 21:24:18 -0000 (Mon, 31 Mar 2025) EllapsedTime: 127.0 seconds RetCode: 0 Status: OK PackageFile: APAlyzer_1.20.0.tar.gz PackageFileSize: 3.618 MiB