Package: APAlyzer Version: 1.20.0 Command: F:\biocbuild\bbs-3.20-bioc\R\bin\R.exe CMD check --no-multiarch --install=check:APAlyzer.install-out.txt --library=F:\biocbuild\bbs-3.20-bioc\R\library --no-vignettes --timings APAlyzer_1.20.0.tar.gz StartedAt: 2025-03-31 22:56:24 -0400 (Mon, 31 Mar 2025) EndedAt: 2025-03-31 23:11:40 -0400 (Mon, 31 Mar 2025) EllapsedTime: 915.4 seconds RetCode: 0 Status: WARNINGS CheckDir: APAlyzer.Rcheck Warnings: 1