Package: ANF Version: 1.28.0 Command: /home/biocbuild/R/R/bin/R CMD INSTALL ANF StartedAt: 2025-03-31 20:59:01 -0000 (Mon, 31 Mar 2025) EndedAt: 2025-03-31 20:59:09 -0000 (Mon, 31 Mar 2025) EllapsedTime: 8.1 seconds RetCode: 0 Status: OK