Package: ANF Version: 1.28.0 Command: /home/biocbuild/R/R/bin/R CMD build --keep-empty-dirs --no-resave-data ANF StartedAt: 2025-03-31 21:20:07 -0000 (Mon, 31 Mar 2025) EndedAt: 2025-03-31 22:00:08 -0000 (Mon, 31 Mar 2025) EllapsedTime: 2400.7 seconds RetCode: None Status: TIMEOUT PackageFile: None PackageFileSize: NA