Package: ANF Version: 1.28.0 Command: /Library/Frameworks/R.framework/Resources/bin/R CMD INSTALL ANF StartedAt: 2025-03-31 17:32:41 -0400 (Mon, 31 Mar 2025) EndedAt: 2025-03-31 17:32:50 -0400 (Mon, 31 Mar 2025) EllapsedTime: 8.1 seconds RetCode: 0 Status: OK