Package: ANF Version: 1.28.0 Command: /Library/Frameworks/R.framework/Resources/bin/R CMD check --install=check:ANF.install-out.txt --library=/Library/Frameworks/R.framework/Resources/library --no-vignettes --timings ANF_1.28.0.tar.gz StartedAt: 2025-04-01 10:40:59 -0400 (Tue, 01 Apr 2025) EndedAt: 2025-04-01 10:43:07 -0400 (Tue, 01 Apr 2025) EllapsedTime: 128.1 seconds RetCode: 0 Status: OK CheckDir: ANF.Rcheck Warnings: 0