Package: AMOUNTAIN Version: 1.32.0 Command: /Library/Frameworks/R.framework/Resources/bin/R CMD build --keep-empty-dirs --no-resave-data AMOUNTAIN StartedAt: 2025-03-31 16:51:27 -0400 (Mon, 31 Mar 2025) EndedAt: 2025-03-31 16:52:01 -0400 (Mon, 31 Mar 2025) EllapsedTime: 33.5 seconds RetCode: 0 Status: OK PackageFile: AMOUNTAIN_1.32.0.tar.gz PackageFileSize: 1.758 MiB