Package: AMARETTO Version: 1.22.0 Command: /Library/Frameworks/R.framework/Resources/bin/R CMD build --keep-empty-dirs --no-resave-data AMARETTO StartedAt: 2025-03-31 16:51:17 -0400 (Mon, 31 Mar 2025) EndedAt: 2025-03-31 16:53:36 -0400 (Mon, 31 Mar 2025) EllapsedTime: 139.2 seconds RetCode: 0 Status: OK PackageFile: AMARETTO_1.22.0.tar.gz PackageFileSize: 3.256 MiB