Package: ALDEx2 Version: 1.38.0 Command: /Library/Frameworks/R.framework/Resources/bin/R CMD check --install=check:ALDEx2.install-out.txt --library=/Library/Frameworks/R.framework/Resources/library --no-vignettes --timings ALDEx2_1.38.0.tar.gz StartedAt: 2025-04-01 10:32:25 -0400 (Tue, 01 Apr 2025) EndedAt: 2025-04-01 10:36:44 -0400 (Tue, 01 Apr 2025) EllapsedTime: 259.2 seconds RetCode: 0 Status: OK CheckDir: ALDEx2.Rcheck Warnings: 0