Package: AHMassBank Version: 1.6.1 Command: F:\biocbuild\bbs-3.20-bioc\R\bin\R.exe CMD INSTALL AHMassBank StartedAt: 2025-03-31 16:14:53 -0400 (Mon, 31 Mar 2025) EndedAt: 2025-03-31 16:15:37 -0400 (Mon, 31 Mar 2025) EllapsedTime: 44.7 seconds RetCode: 0 Status: OK