Package: AHMassBank Version: 1.6.1 Command: /Library/Frameworks/R.framework/Resources/bin/R CMD check --install=check:AHMassBank.install-out.txt --library=/Library/Frameworks/R.framework/Resources/library --no-vignettes --timings AHMassBank_1.6.1.tar.gz StartedAt: 2025-03-31 23:10:00 -0400 (Mon, 31 Mar 2025) EndedAt: 2025-03-31 23:18:27 -0400 (Mon, 31 Mar 2025) EllapsedTime: 506.9 seconds RetCode: 0 Status: OK CheckDir: AHMassBank.Rcheck Warnings: 0