Package: AGDEX Version: 1.54.0 Command: /home/biocbuild/R/R/bin/R CMD INSTALL AGDEX StartedAt: 2025-03-31 20:35:58 -0000 (Mon, 31 Mar 2025) EndedAt: 2025-03-31 20:36:17 -0000 (Mon, 31 Mar 2025) EllapsedTime: 18.8 seconds RetCode: 0 Status: OK