Package: AGDEX Version: 1.54.0 Command: /home/biocbuild/R/R/bin/R CMD check --install=check:AGDEX.install-out.txt --library=/home/biocbuild/R/R/site-library --no-vignettes --timings AGDEX_1.54.0.tar.gz StartedAt: 2025-04-01 03:45:16 -0000 (Tue, 01 Apr 2025) EndedAt: 2025-04-01 03:46:51 -0000 (Tue, 01 Apr 2025) EllapsedTime: 94.3 seconds RetCode: 0 Status: OK CheckDir: AGDEX.Rcheck Warnings: 0