Package: AGDEX Version: 1.54.0 Command: /Library/Frameworks/R.framework/Resources/bin/R CMD INSTALL AGDEX StartedAt: 2025-03-31 15:48:49 -0400 (Mon, 31 Mar 2025) EndedAt: 2025-03-31 15:49:06 -0400 (Mon, 31 Mar 2025) EllapsedTime: 17.1 seconds RetCode: 0 Status: OK