Package: ADaCGH2 Version: 2.46.0 Command: /Library/Frameworks/R.framework/Resources/bin/R CMD INSTALL ADaCGH2 StartedAt: 2025-03-31 16:16:40 -0400 (Mon, 31 Mar 2025) EndedAt: 2025-03-31 16:17:29 -0400 (Mon, 31 Mar 2025) EllapsedTime: 49.1 seconds RetCode: 0 Status: OK