Package: ADaCGH2 Version: 2.46.0 Command: /Library/Frameworks/R.framework/Resources/bin/R CMD check --install=check:ADaCGH2.install-out.txt --library=/Library/Frameworks/R.framework/Resources/library --no-vignettes --timings ADaCGH2_2.46.0.tar.gz StartedAt: 2025-03-31 23:07:30 -0400 (Mon, 31 Mar 2025) EndedAt: 2025-03-31 23:14:46 -0400 (Mon, 31 Mar 2025) EllapsedTime: 435.7 seconds RetCode: 0 Status: OK CheckDir: ADaCGH2.Rcheck Warnings: 0