Package: ADImpute Version: 1.16.0 Command: /home/biocbuild/R/R/bin/R CMD check --install=check:ADImpute.install-out.txt --library=/home/biocbuild/R/R/site-library --no-vignettes --timings ADImpute_1.16.0.tar.gz StartedAt: 2025-04-01 03:43:41 -0000 (Tue, 01 Apr 2025) EndedAt: 2025-04-01 03:47:29 -0000 (Tue, 01 Apr 2025) EllapsedTime: 227.6 seconds RetCode: 0 Status: WARNINGS CheckDir: ADImpute.Rcheck Warnings: 1