Package: ADImpute Version: 1.16.0 Command: /home/biocbuild/bbs-3.20-bioc/R/bin/R CMD build --keep-empty-dirs --no-resave-data --md5 ADImpute StartedAt: 2025-03-31 16:07:39 -0400 (Mon, 31 Mar 2025) EndedAt: 2025-03-31 16:08:05 -0400 (Mon, 31 Mar 2025) EllapsedTime: 26.1 seconds RetCode: 0 Status: OK PackageFile: ADImpute_1.16.0.tar.gz PackageFileSize: 2.119 MiB