Package: ADImpute Version: 1.16.0 Command: /Library/Frameworks/R.framework/Resources/bin/R CMD INSTALL ADImpute StartedAt: 2025-03-31 17:41:46 -0400 (Mon, 31 Mar 2025) EndedAt: 2025-03-31 17:41:50 -0400 (Mon, 31 Mar 2025) EllapsedTime: 4.6 seconds RetCode: 0 Status: OK