Package: ADImpute Version: 1.16.0 Command: /Library/Frameworks/R.framework/Resources/bin/R CMD build --keep-empty-dirs --no-resave-data ADImpute StartedAt: 2025-03-31 18:26:26 -0400 (Mon, 31 Mar 2025) EndedAt: 2025-03-31 18:26:58 -0400 (Mon, 31 Mar 2025) EllapsedTime: 31.9 seconds RetCode: 0 Status: OK PackageFile: ADImpute_1.16.0.tar.gz PackageFileSize: 2.117 MiB