Package: ADAPT Version: 1.0.0 Command: /home/biocbuild/R/R/bin/R CMD INSTALL ADAPT StartedAt: 2025-03-31 20:58:23 -0000 (Mon, 31 Mar 2025) EndedAt: 2025-03-31 20:59:27 -0000 (Mon, 31 Mar 2025) EllapsedTime: 64.1 seconds RetCode: 0 Status: OK