Package: ADAPT Version: 1.0.0 Command: /Library/Frameworks/R.framework/Resources/bin/R CMD build --keep-empty-dirs --no-resave-data ADAPT StartedAt: 2025-03-31 16:48:08 -0400 (Mon, 31 Mar 2025) EndedAt: 2025-03-31 16:48:56 -0400 (Mon, 31 Mar 2025) EllapsedTime: 48.0 seconds RetCode: 1 Status: ERROR PackageFile: None PackageFileSize: NA