Package: ADAMgui Version: 1.22.0 Command: /Library/Frameworks/R.framework/Resources/bin/R CMD INSTALL ADAMgui StartedAt: 2025-03-31 16:37:00 -0400 (Mon, 31 Mar 2025) EndedAt: 2025-03-31 16:37:57 -0400 (Mon, 31 Mar 2025) EllapsedTime: 57.3 seconds RetCode: 0 Status: OK