Package: ADAMgui Version: 1.22.0 Command: /Library/Frameworks/R.framework/Resources/bin/R CMD check --install=check:ADAMgui.install-out.txt --library=/Library/Frameworks/R.framework/Resources/library --no-vignettes --timings ADAMgui_1.22.0.tar.gz StartedAt: 2025-03-21 10:19:42 -0400 (Fri, 21 Mar 2025) EndedAt: 2025-03-21 10:23:14 -0400 (Fri, 21 Mar 2025) EllapsedTime: 212.1 seconds RetCode: 0 Status: OK CheckDir: ADAMgui.Rcheck Warnings: 0