Package: ACME Version: 2.62.0 Command: /home/biocbuild/R/R/bin/R CMD INSTALL ACME StartedAt: 2025-03-31 20:11:47 -0000 (Mon, 31 Mar 2025) EndedAt: 2025-03-31 20:11:55 -0000 (Mon, 31 Mar 2025) EllapsedTime: 7.8 seconds RetCode: 1 Status: ERROR