Package: ACME Version: 2.62.0 Command: F:\biocbuild\bbs-3.20-bioc\R\bin\R.exe CMD INSTALL ACME StartedAt: 2025-03-31 15:25:05 -0400 (Mon, 31 Mar 2025) EndedAt: 2025-03-31 15:25:24 -0400 (Mon, 31 Mar 2025) EllapsedTime: 18.9 seconds RetCode: 0 Status: OK