Package: ACME Version: 2.62.0 Command: /home/biocbuild/bbs-3.20-bioc/R/bin/R CMD check --install=check:ACME.install-out.txt --library=/home/biocbuild/bbs-3.20-bioc/R/site-library --timings ACME_2.62.0.tar.gz StartedAt: 2025-03-31 19:44:31 -0400 (Mon, 31 Mar 2025) EndedAt: 2025-03-31 19:45:28 -0400 (Mon, 31 Mar 2025) EllapsedTime: 57.1 seconds RetCode: 0 Status: WARNINGS CheckDir: ACME.Rcheck Warnings: 1