Package: ACME Version: 2.62.0 Command: /Library/Frameworks/R.framework/Resources/bin/R CMD check --install=check:ACME.install-out.txt --library=/Library/Frameworks/R.framework/Resources/library --no-vignettes --timings ACME_2.62.0.tar.gz StartedAt: 2025-04-01 10:15:13 -0400 (Tue, 01 Apr 2025) EndedAt: 2025-04-01 10:16:17 -0400 (Tue, 01 Apr 2025) EllapsedTime: 64.5 seconds RetCode: 0 Status: OK CheckDir: ACME.Rcheck Warnings: 0