Package: ACME Version: 2.62.0 Command: /Library/Frameworks/R.framework/Resources/bin/R CMD build --keep-empty-dirs --no-resave-data ACME StartedAt: 2025-03-31 18:24:56 -0400 (Mon, 31 Mar 2025) EndedAt: 2025-03-31 18:25:29 -0400 (Mon, 31 Mar 2025) EllapsedTime: 33.2 seconds RetCode: 0 Status: OK PackageFile: ACME_2.62.0.tar.gz PackageFileSize: 9.91 MiB