Package: ACME Version: 2.62.0 Command: rm -rf ACME.buildbin-libdir && mkdir ACME.buildbin-libdir && /Users/biocbuild/BBS/utils/build-universal.sh ACME_2.62.0.tar.gz /Library/Frameworks/R.framework/Resources/bin/R ACME.buildbin-libdir StartedAt: 2025-04-02 13:12:59 -0400 (Wed, 02 Apr 2025) EndedAt: 2025-04-02 13:13:11 -0400 (Wed, 02 Apr 2025) EllapsedTime: 12.7 seconds RetCode: 0 Status: OK PackageFile: ACME_2.62.0.tgz PackageFileSize: 10.15 MiB