Package: ABarray Version: 1.74.0 Command: /Library/Frameworks/R.framework/Resources/bin/R CMD INSTALL ABarray StartedAt: 2025-03-31 16:29:17 -0400 (Mon, 31 Mar 2025) EndedAt: 2025-03-31 16:29:38 -0400 (Mon, 31 Mar 2025) EllapsedTime: 20.6 seconds RetCode: 0 Status: OK