Package: ABSSeq Version: 1.60.0 Command: /home/biocbuild/R/R/bin/R CMD check --install=check:ABSSeq.install-out.txt --library=/home/biocbuild/R/R/site-library --no-vignettes --timings ABSSeq_1.60.0.tar.gz StartedAt: 2025-04-01 03:43:41 -0000 (Tue, 01 Apr 2025) EndedAt: 2025-04-01 03:46:28 -0000 (Tue, 01 Apr 2025) EllapsedTime: 167.4 seconds RetCode: 0 Status: OK CheckDir: ABSSeq.Rcheck Warnings: 0