Package: ABSSeq Version: 1.60.0 Command: /Library/Frameworks/R.framework/Resources/bin/R CMD build --keep-empty-dirs --no-resave-data ABSSeq StartedAt: 2025-03-31 16:48:08 -0400 (Mon, 31 Mar 2025) EndedAt: 2025-03-31 16:50:52 -0400 (Mon, 31 Mar 2025) EllapsedTime: 164.7 seconds RetCode: 0 Status: OK PackageFile: ABSSeq_1.60.0.tar.gz PackageFileSize: 1.073 MiB