Welcome to mirrors.dotsrc.org

All our mirrors of open source software are available via http, https, ftp and an onion service. More information about our mirrors including statistics and contact information is available on our mirror info pages.

For information about dotsrc.org and our other services please go to our website.

Index of /bioconductor/checkResults/3.2/data-experiment-20150824/

File Name  ↓ File Size  ↓ Date  ↓ 
--
-2015-08-25 00:30:36
-2015-08-25 00:30:36
-2015-08-25 00:30:36
-2015-08-25 00:30:36
-2015-08-25 00:30:36
-2015-08-25 00:30:36
-2015-08-25 00:30:36
-2015-08-25 00:30:36
-2015-08-25 00:30:36
-2015-08-25 00:30:36
-2015-08-25 00:30:36
-2015-08-25 00:30:36
-2015-08-25 00:30:36
-2015-08-25 00:30:37
-2015-08-25 00:30:37
-2015-08-25 00:30:37
-2015-08-25 00:30:37
-2015-08-25 00:30:37
-2015-08-25 00:30:36
-2015-08-25 00:30:36
-2015-08-25 00:30:37
-2015-08-25 00:30:36
-2015-08-25 00:30:37
-2015-08-25 00:30:37
-2015-08-25 00:30:37
-2015-08-25 00:30:37
-2015-08-25 00:30:37
-2015-08-25 00:30:37
-2015-08-25 00:30:37
-2015-08-25 00:30:37
-2015-08-25 00:30:37
-2015-08-25 00:30:37
-2015-08-25 00:30:37
-2015-08-25 00:30:37
-2015-08-25 00:30:37
-2015-08-25 00:30:37
-2015-08-25 00:30:37
-2015-08-25 00:30:37
-2015-08-25 00:30:37
-2015-08-25 00:30:37
-2015-08-25 00:30:37
-2015-08-25 00:30:37
-2015-08-25 00:30:37
-2015-08-25 00:30:37
-2015-08-25 00:30:37
-2015-08-25 00:30:37
-2015-08-25 00:30:37
-2015-08-25 00:30:37
-2015-08-25 00:30:37
-2015-08-25 00:30:37
-2015-08-25 00:30:37
-2015-08-25 00:30:37
-2015-08-25 00:30:37
-2015-08-25 00:30:37
-2015-08-25 00:30:37
-2015-08-25 00:30:37
-2015-08-25 00:30:37
-2015-08-25 00:30:37
-2015-08-25 00:30:37
-2015-08-25 00:30:37
-2015-08-25 00:30:37
-2015-08-25 00:30:37
-2015-08-25 00:30:37
-2015-08-25 00:30:37
-2015-08-25 00:30:37
-2015-08-25 00:30:37
-2015-08-25 00:30:37
-2015-08-25 00:30:37
-2015-08-25 00:30:37
-2015-08-25 00:30:37
-2015-08-25 00:30:37
-2015-08-25 00:30:37
-2015-08-25 00:30:37
-2015-08-25 00:30:37
-2015-08-25 00:30:37
-2015-08-25 00:30:37
-2015-08-25 00:30:38
-2015-08-25 00:30:38
-2015-08-25 00:30:38
-2015-08-25 00:30:38
-2015-08-25 00:30:38
-2015-08-25 00:30:38
-2015-08-25 00:30:38
-2015-08-25 00:30:38
-2015-08-25 00:30:38
-2015-08-25 00:30:38
-2015-08-25 00:30:38
-2015-08-25 00:30:38
-2015-08-25 00:30:38
-2015-08-25 00:30:38
-2015-08-25 00:30:38
-2015-08-25 00:30:38
-2015-08-25 00:30:38
-2015-08-25 00:30:38
-2015-08-25 00:30:38
-2015-08-25 00:30:38
-2015-08-25 00:30:38
-2015-08-25 00:30:38
-2015-08-25 00:30:38
-2015-08-25 00:30:38
-2015-08-25 00:30:38
-2015-08-25 00:30:38
-2015-08-25 00:30:38
-2015-08-25 00:30:38
-2015-08-25 00:30:38
-2015-08-25 00:30:38
-2015-08-25 00:30:38
-2015-08-25 00:30:38
-2015-08-25 00:30:38
-2015-08-25 00:30:38
-2015-08-25 00:30:38
-2015-08-25 00:30:38
-2015-08-25 00:30:36
-2015-08-25 00:30:36
-2015-08-25 00:30:36
-2015-08-25 00:30:36
-2015-08-25 00:30:36
-2015-08-25 00:30:36
-2015-08-25 00:30:36
-2015-08-25 00:30:36
-2015-08-25 00:30:36
-2015-08-25 00:30:36
-2015-08-25 00:30:36
-2015-08-25 00:30:36
-2015-08-25 00:30:36
-2015-08-25 00:30:36
-2015-08-25 00:30:36
-2015-08-25 00:30:36
-2015-08-25 00:30:36
-2015-08-25 00:30:37
-2015-08-25 00:30:36
-2015-08-25 00:30:36
-2015-08-25 00:30:36
-2015-08-25 00:30:36
-2015-08-25 00:30:36
-2015-08-25 00:30:36
-2015-08-25 00:30:36
-2015-08-25 00:30:36
-2015-08-25 00:30:36
-2015-08-25 00:30:37
-2015-08-25 00:30:37
-2015-08-25 00:30:37
-2015-08-25 00:30:37
-2015-08-25 00:30:37
-2015-08-25 00:30:37
-2015-08-25 00:30:37
-2015-08-25 00:30:37
-2015-08-25 00:30:37
-2015-08-25 00:30:37
-2015-08-25 00:30:37
-2015-08-25 00:30:37
-2015-08-25 00:30:37
-2015-08-25 00:30:37
-2015-08-25 00:30:37
-2015-08-25 00:30:37
-2015-08-25 00:30:37
-2015-08-25 00:30:37
-2015-08-25 00:30:37
-2015-08-25 00:30:37
-2015-08-25 00:30:37
-2015-08-25 00:30:37
-2015-08-25 00:30:37
-2015-08-25 00:30:37
-2015-08-25 00:30:37
-2015-08-25 00:30:37
-2015-08-25 00:30:37
-2015-08-25 00:30:37
-2015-08-25 00:30:37
-2015-08-25 00:30:37
-2015-08-25 00:30:37
-2015-08-25 00:30:37
-2015-08-25 00:30:37
-2015-08-25 00:30:37
-2015-08-25 00:30:37
-2015-08-25 00:30:37
-2015-08-25 00:30:37
-2015-08-25 00:30:37
-2015-08-25 00:30:37
-2015-08-25 00:30:37
-2015-08-25 00:30:37
-2015-08-25 00:30:37
-2015-08-25 00:30:37
-2015-08-25 00:30:37
-2015-08-25 00:30:37
-2015-08-25 00:30:37
-2015-08-25 00:30:37
-2015-08-25 00:30:37
-2015-08-25 00:30:37
-2015-08-25 00:30:37
-2015-08-25 00:30:37
-2015-08-25 00:30:37
-2015-08-25 00:30:37
-2015-08-25 00:30:37
-2015-08-25 00:30:37
-2015-08-25 00:30:37
-2015-08-25 00:30:37
-2015-08-25 00:30:37
-2015-08-25 00:30:37
-2015-08-25 00:30:37
-2015-08-25 00:30:37
-2015-08-25 00:30:37
-2015-08-25 00:30:37
-2015-08-25 00:30:37
-2015-08-25 00:30:37
-2015-08-25 00:30:37
-2015-08-25 00:30:37
-2015-08-25 00:30:37
-2015-08-25 00:30:37
-2015-08-25 00:30:37
-2015-08-25 00:30:37
-2015-08-25 00:30:38
-2015-08-25 00:30:37
-2015-08-25 00:30:37
-2015-08-25 00:30:38
-2015-08-25 00:30:38
-2015-08-25 00:30:38
-2015-08-25 00:30:38
-2015-08-25 00:30:38
-2015-08-25 00:30:38
-2015-08-25 00:30:38
-2015-08-25 00:30:38
-2015-08-25 00:30:38
-2015-08-25 00:30:38
-2015-08-25 00:30:38
-2015-08-25 00:30:38
-2015-08-25 00:30:38
-2015-08-25 00:30:38
-2015-08-25 00:30:38
-2015-08-25 00:30:38
-2015-08-25 00:30:38
-2015-08-25 00:30:38
-2015-08-25 00:30:38
-2015-08-25 00:30:38
-2015-08-25 00:30:38
-2015-08-25 00:30:38
-2015-08-25 00:30:38
-2015-08-25 00:30:38
-2015-08-25 00:30:38
-2015-08-25 00:30:38
-2015-08-25 00:30:38
-2015-08-25 00:30:38
-2015-08-25 00:30:38
-2015-08-25 00:30:38
-2015-08-25 00:30:38
-2015-08-25 00:30:38
-2015-08-25 00:30:38
7.1 KiB2015-08-25 00:30:36
7.1 KiB2015-08-25 00:30:36
7.0 KiB2015-08-25 00:30:36
2.6 KiB2015-08-25 00:30:37
96.2 KiB2015-08-25 00:30:38
887.6 KiB2015-08-25 00:30:37
48.7 KiB2015-08-25 00:30:37
6.0 KiB2015-08-25 00:30:37
86.5 KiB2015-08-25 00:30:37
221.9 KiB2015-08-25 00:30:37
6.1 KiB2015-08-25 00:30:38
85.3 KiB2015-08-25 00:30:38
222.4 KiB2015-08-25 00:30:38
7.6 KiB2015-08-25 00:30:38
5.1 KiB2015-08-25 00:30:38
1.4 MiB2015-08-25 00:30:38
5.8 KiB2015-08-25 00:30:38
86.1 KiB2015-08-25 00:30:38
237.2 KiB2015-08-25 00:30:38