Welcome to mirrors.dotsrc.org

All our mirrors of open source software are available via http, https, ftp and an onion service. More information about our mirrors including statistics and contact information is available on our mirror info pages.

For information about dotsrc.org and our other services please go to our website.

Index of /bioconductor/checkResults/3.2/bioc-20151027/

File Name  ↓ File Size  ↓ Date  ↓ 
--
-2015-10-28 06:08:02
-2015-10-28 06:08:02
-2015-10-28 06:08:02
-2015-10-28 06:08:02
-2015-10-28 06:08:02
-2015-10-28 06:08:02
-2015-10-28 06:08:02
-2015-10-28 06:08:02
-2015-10-28 06:08:02
-2015-10-28 06:08:02
-2015-10-28 06:08:02
-2015-10-28 06:08:02
-2015-10-28 06:08:02
-2015-10-28 06:08:02
-2015-10-28 06:08:02
-2015-10-28 06:08:02
-2015-10-28 06:08:02
-2015-10-28 06:08:02
-2015-10-28 06:08:02
-2015-10-28 06:08:02
-2015-10-28 06:08:02
-2015-10-28 06:08:02
-2015-10-28 06:08:02
-2015-10-28 06:08:02
-2015-10-28 06:08:02
-2015-10-28 06:08:02
-2015-10-28 06:08:02
-2015-10-28 06:08:02
-2015-10-28 06:08:02
-2015-10-28 06:08:03
-2015-10-28 06:08:03
-2015-10-28 06:08:03
-2015-10-28 06:08:03
-2015-10-28 06:08:03
-2015-10-28 06:08:03
-2015-10-28 06:08:03
-2015-10-28 06:08:03
-2015-10-28 06:08:03
-2015-10-28 06:08:03
-2015-10-28 06:08:03
-2015-10-28 06:08:03
-2015-10-28 06:08:03
-2015-10-28 06:08:03
-2015-10-28 06:08:03
-2015-10-28 06:08:03
-2015-10-28 06:08:03
-2015-10-28 06:08:03
-2015-10-28 06:08:03
-2015-10-28 06:08:03
-2015-10-28 06:08:03
-2015-10-28 06:08:03
-2015-10-28 06:08:03
-2015-10-28 06:08:03
-2015-10-28 06:08:03
-2015-10-28 06:08:03
-2015-10-28 06:08:03
-2015-10-28 06:08:03
-2015-10-28 06:08:03
-2015-10-28 06:08:03
-2015-10-28 06:08:03
-2015-10-28 06:08:03
-2015-10-28 06:08:03
-2015-10-28 06:08:03
-2015-10-28 06:08:03
-2015-10-28 06:08:03
-2015-10-28 06:08:03
-2015-10-28 06:08:03
-2015-10-28 06:08:03
-2015-10-28 06:08:03
-2015-10-28 06:08:03
-2015-10-28 06:08:03
-2015-10-28 06:08:03
-2015-10-28 06:08:03
-2015-10-28 06:08:04
-2015-10-28 06:08:04
-2015-10-28 06:08:04
-2015-10-28 06:08:04
-2015-10-28 06:08:04
-2015-10-28 06:08:04
-2015-10-28 06:08:04
-2015-10-28 06:08:04
-2015-10-28 06:08:04
-2015-10-28 06:08:04
-2015-10-28 06:08:04
-2015-10-28 06:08:04
-2015-10-28 06:08:04
-2015-10-28 06:08:04
-2015-10-28 06:08:04
-2015-10-28 06:08:04
-2015-10-28 06:08:04
-2015-10-28 06:08:04
-2015-10-28 06:08:04
-2015-10-28 06:08:04
-2015-10-28 06:08:05
-2015-10-28 06:08:05
-2015-10-28 06:08:05
-2015-10-28 06:08:05
-2015-10-28 06:08:05
-2015-10-28 06:08:05
-2015-10-28 06:08:05
-2015-10-28 06:08:05
-2015-10-28 06:08:05
-2015-10-28 06:08:03
-2015-10-28 06:08:04
-2015-10-28 06:08:04
-2015-10-28 06:08:04
-2015-10-28 06:08:04
-2015-10-28 06:08:04
-2015-10-28 06:08:04
-2015-10-28 06:08:04
-2015-10-28 06:08:04
-2015-10-28 06:08:04
-2015-10-28 06:08:04
-2015-10-28 06:08:04
-2015-10-28 06:08:04
-2015-10-28 06:08:04
-2015-10-28 06:08:04
-2015-10-28 06:08:04
-2015-10-28 06:08:04
-2015-10-28 06:08:04
-2015-10-28 06:08:04
-2015-10-28 06:08:04
-2015-10-28 06:08:04
-2015-10-28 06:08:04
-2015-10-28 06:08:05
-2015-10-28 06:08:05
-2015-10-28 06:08:05
-2015-10-28 06:08:05
-2015-10-28 06:08:05
-2015-10-28 06:08:05
-2015-10-28 06:08:05
-2015-10-28 06:08:05
-2015-10-28 06:08:05
-2015-10-28 06:08:05
-2015-10-28 06:08:05
-2015-10-28 06:08:05
-2015-10-28 06:08:05
-2015-10-28 06:08:05
-2015-10-28 06:08:05
-2015-10-28 06:08:05
-2015-10-28 06:08:05
-2015-10-28 06:08:05
-2015-10-28 06:08:05
-2015-10-28 06:08:05
-2015-10-28 06:08:05
-2015-10-28 06:08:05
-2015-10-28 06:08:05
-2015-10-28 06:08:05
-2015-10-28 06:08:05
-2015-10-28 06:08:05
-2015-10-28 06:08:05
-2015-10-28 06:08:05
-2015-10-28 06:08:06
-2015-10-28 06:08:06
-2015-10-28 06:08:06
-2015-10-28 06:08:06
-2015-10-28 06:08:06
-2015-10-28 06:08:05
-2015-10-28 06:08:05
-2015-10-28 06:08:05
-2015-10-28 06:08:05
-2015-10-28 06:08:05
-2015-10-28 06:08:06
-2015-10-28 06:08:06
-2015-10-28 06:08:06
-2015-10-28 06:08:06
-2015-10-28 06:08:06
-2015-10-28 06:08:06
-2015-10-28 06:08:06
-2015-10-28 06:08:06
-2015-10-28 06:08:06
-2015-10-28 06:08:06
-2015-10-28 06:08:06
-2015-10-28 06:08:06
-2015-10-28 06:08:06
-2015-10-28 06:08:06
-2015-10-28 06:08:06
-2015-10-28 06:08:06
-2015-10-28 06:08:06
-2015-10-28 06:08:06
-2015-10-28 06:08:06
-2015-10-28 06:08:06
-2015-10-28 06:08:06
-2015-10-28 06:08:06
-2015-10-28 06:08:06
-2015-10-28 06:08:06
-2015-10-28 06:08:06
-2015-10-28 06:08:07
-2015-10-28 06:08:06
-2015-10-28 06:08:07
-2015-10-28 06:08:07
-2015-10-28 06:08:07
-2015-10-28 06:08:07
-2015-10-28 06:08:07
-2015-10-28 06:08:07
-2015-10-28 06:08:07
-2015-10-28 06:08:07
-2015-10-28 06:08:08
-2015-10-28 06:08:08
-2015-10-28 06:08:08
-2015-10-28 06:08:08
-2015-10-28 06:08:08
-2015-10-28 06:08:08
-2015-10-28 06:08:08
-2015-10-28 06:08:08
-2015-10-28 06:08:08
-2015-10-28 06:08:08
-2015-10-28 06:08:08
-2015-10-28 06:08:08
-2015-10-28 06:08:08
-2015-10-28 06:08:08
-2015-10-28 06:08:08
-2015-10-28 06:08:08
-2015-10-28 06:08:08
-2015-10-28 06:08:08
-2015-10-28 06:08:08
-2015-10-28 06:08:08
-2015-10-28 06:08:08
-2015-10-28 06:08:08
-2015-10-28 06:08:08
-2015-10-28 06:08:07
-2015-10-28 06:08:07
-2015-10-28 06:08:07
-2015-10-28 06:08:07
-2015-10-28 06:08:07
-2015-10-28 06:08:07
-2015-10-28 06:08:07
-2015-10-28 06:08:07
-2015-10-28 06:08:07
-2015-10-28 06:08:07
-2015-10-28 06:08:07
-2015-10-28 06:08:07
-2015-10-28 06:08:07
-2015-10-28 06:08:07
-2015-10-28 06:08:07
-2015-10-28 06:08:07
-2015-10-28 06:08:07
-2015-10-28 06:08:07
-2015-10-28 06:08:07
-2015-10-28 06:08:07
-2015-10-28 06:08:07
-2015-10-28 06:08:07
-2015-10-28 06:08:08
-2015-10-28 06:08:08
-2015-10-28 06:08:08
-2015-10-28 06:08:08
-2015-10-28 06:08:08
-2015-10-28 06:08:08
-2015-10-28 06:08:08
-2015-10-28 06:08:08
-2015-10-28 06:08:08
-2015-10-28 06:08:08
-2015-10-28 06:08:08
-2015-10-28 06:08:08
-2015-10-28 06:08:08
-2015-10-28 06:08:08
-2015-10-28 06:08:08
-2015-10-28 06:08:08
-2015-10-28 06:08:08
-2015-10-28 06:08:08
-2015-10-28 06:08:08
-2015-10-28 06:08:08
-2015-10-28 06:08:08
-2015-10-28 06:08:08
-2015-10-28 06:08:08
-2015-10-28 06:08:08
-2015-10-28 06:08:08
-2015-10-28 06:08:09
-2015-10-28 06:08:09
-2015-10-28 06:08:09
-2015-10-28 06:08:09
-2015-10-28 06:08:09
-2015-10-28 06:08:09
-2015-10-28 06:08:09
-2015-10-28 06:08:09
-2015-10-28 06:08:09
-2015-10-28 06:08:09
-2015-10-28 06:08:09
-2015-10-28 06:08:09
-2015-10-28 06:08:09
-2015-10-28 06:08:09
-2015-10-28 06:08:09
-2015-10-28 06:08:09
-2015-10-28 06:08:09
-2015-10-28 06:08:09
-2015-10-28 06:08:09
-2015-10-28 06:08:09
-2015-10-28 06:08:09
-2015-10-28 06:08:09
-2015-10-28 06:08:09
-2015-10-28 06:08:09
-2015-10-28 06:08:09
-2015-10-28 06:08:09
-2015-10-28 06:08:09
-2015-10-28 06:08:09
-2015-10-28 06:08:09
-2015-10-28 06:08:09
-2015-10-28 06:08:10
-2015-10-28 06:08:10
-2015-10-28 06:08:10
-2015-10-28 06:08:10
-2015-10-28 06:08:10
-2015-10-28 06:08:10
-2015-10-28 06:08:10
-2015-10-28 06:08:10
-2015-10-28 06:08:10
-2015-10-28 06:08:10
-2015-10-28 06:08:10
-2015-10-28 06:08:10
-2015-10-28 06:08:11
-2015-10-28 06:08:11
-2015-10-28 06:08:11
-2015-10-28 06:08:11
-2015-10-28 06:08:11
-2015-10-28 06:08:11
-2015-10-28 06:08:11
-2015-10-28 06:08:11
-2015-10-28 06:08:11
-2015-10-28 06:08:11
-2015-10-28 06:08:11
-2015-10-28 06:08:10
-2015-10-28 06:08:10
-2015-10-28 06:08:10
-2015-10-28 06:08:10
-2015-10-28 06:08:10
-2015-10-28 06:08:10
-2015-10-28 06:08:10
-2015-10-28 06:08:10
-2015-10-28 06:08:10
-2015-10-28 06:08:10
-2015-10-28 06:08:10
-2015-10-28 06:08:10
-2015-10-28 06:08:10
-2015-10-28 06:08:10
-2015-10-28 06:08:10
-2015-10-28 06:08:10
-2015-10-28 06:08:10
-2015-10-28 06:08:10
-2015-10-28 06:08:10
-2015-10-28 06:08:10
-2015-10-28 06:08:11
-2015-10-28 06:08:11
-2015-10-28 06:08:11
-2015-10-28 06:08:11
-2015-10-28 06:08:11
-2015-10-28 06:08:11
-2015-10-28 06:08:11
-2015-10-28 06:08:11
-2015-10-28 06:08:11
-2015-10-28 06:08:11
-2015-10-28 06:08:11
-2015-10-28 06:08:11
-2015-10-28 06:08:11
-2015-10-28 06:08:11
-2015-10-28 06:08:11
-2015-10-28 06:08:11
-2015-10-28 06:08:11
-2015-10-28 06:08:11
-2015-10-28 06:08:11
-2015-10-28 06:08:12
-2015-10-28 06:08:12
-2015-10-28 06:08:12
-2015-10-28 06:08:12
-2015-10-28 06:08:12
-2015-10-28 06:08:12
-2015-10-28 06:08:12
-2015-10-28 06:08:12
-2015-10-28 06:08:12
-2015-10-28 06:08:12
-2015-10-28 06:08:12
-2015-10-28 06:08:12
-2015-10-28 06:08:12
-2015-10-28 06:08:12
-2015-10-28 06:08:12
-2015-10-28 06:08:12
-2015-10-28 06:08:12
-2015-10-28 06:08:12
-2015-10-28 06:08:12
-2015-10-28 06:08:12
-2015-10-28 06:08:12
-2015-10-28 06:08:12
-2015-10-28 06:08:12
-2015-10-28 06:08:12
-2015-10-28 06:08:12
-2015-10-28 06:08:13
-2015-10-28 06:08:13
-2015-10-28 06:08:13
-2015-10-28 06:08:13
-2015-10-28 06:08:13
-2015-10-28 06:08:13
-2015-10-28 06:08:12
-2015-10-28 06:08:12
-2015-10-28 06:08:12
-2015-10-28 06:08:12
-2015-10-28 06:08:12
-2015-10-28 06:08:13
-2015-10-28 06:08:13
-2015-10-28 06:08:13
-2015-10-28 06:08:13
-2015-10-28 06:08:13
-2015-10-28 06:08:13
-2015-10-28 06:08:13
-2015-10-28 06:08:13
-2015-10-28 06:08:13
-2015-10-28 06:08:13
-2015-10-28 06:08:13
-2015-10-28 06:08:13
-2015-10-28 06:08:13
-2015-10-28 06:08:13
-2015-10-28 06:08:13
-2015-10-28 06:08:13
-2015-10-28 06:08:13
-2015-10-28 06:08:13
-2015-10-28 06:08:13
-2015-10-28 06:08:13
-2015-10-28 06:08:13
-2015-10-28 06:08:13
-2015-10-28 06:08:14
-2015-10-28 06:08:14
-2015-10-28 06:08:14
-2015-10-28 06:08:14
-2015-10-28 06:08:14
-2015-10-28 06:08:14
-2015-10-28 06:08:14
-2015-10-28 06:08:14
-2015-10-28 06:08:14
-2015-10-28 06:08:14
-2015-10-28 06:08:14
-2015-10-28 06:08:14
-2015-10-28 06:08:14
-2015-10-28 06:08:14
-2015-10-28 06:08:14
-2015-10-28 06:08:14
-2015-10-28 06:08:14
-2015-10-28 06:08:14
-2015-10-28 06:08:14
-2015-10-28 06:08:14
-2015-10-28 06:08:14
-2015-10-28 06:08:14
-2015-10-28 06:08:14
-2015-10-28 06:08:13
-2015-10-28 06:08:13
-2015-10-28 06:08:13
-2015-10-28 06:08:13
-2015-10-28 06:08:13
-2015-10-28 06:08:13
-2015-10-28 06:08:13
-2015-10-28 06:08:13
-2015-10-28 06:08:13
-2015-10-28 06:08:13
-2015-10-28 06:08:13
-2015-10-28 06:08:14
-2015-10-28 06:08:13
-2015-10-28 06:08:13
-2015-10-28 06:08:13
-2015-10-28 06:08:14
-2015-10-28 06:08:14
-2015-10-28 06:08:14
-2015-10-28 06:08:14
-2015-10-28 06:08:14
-2015-10-28 06:08:14
-2015-10-28 06:08:14
-2015-10-28 06:08:14
-2015-10-28 06:08:14
-2015-10-28 06:08:14
-2015-10-28 06:08:14
-2015-10-28 06:08:14
-2015-10-28 06:08:14
-2015-10-28 06:08:14
-2015-10-28 06:08:14
-2015-10-28 06:08:14
-2015-10-28 06:08:14
-2015-10-28 06:08:14
-2015-10-28 06:08:14
-2015-10-28 06:08:14
-2015-10-28 06:08:14
-2015-10-28 06:08:15
-2015-10-28 06:08:15
-2015-10-28 06:08:15
-2015-10-28 06:08:15
-2015-10-28 06:08:15
-2015-10-28 06:08:15
-2015-10-28 06:08:15
-2015-10-28 06:08:15
-2015-10-28 06:08:15
-2015-10-28 06:08:15
-2015-10-28 06:08:15
-2015-10-28 06:08:15
-2015-10-28 06:08:15
-2015-10-28 06:08:15
-2015-10-28 06:08:15
-2015-10-28 06:08:15
-2015-10-28 06:08:15
-2015-10-28 06:08:15
-2015-10-28 06:08:15
-2015-10-28 06:08:15
-2015-10-28 06:08:15
-2015-10-28 06:08:15
-2015-10-28 06:08:16
-2015-10-28 06:08:16
-2015-10-28 06:08:16
-2015-10-28 06:08:16
-2015-10-28 06:08:16
-2015-10-28 06:08:16
-2015-10-28 06:08:16
-2015-10-28 06:08:16
-2015-10-28 06:08:15
-2015-10-28 06:08:15
-2015-10-28 06:08:15
-2015-10-28 06:08:15
-2015-10-28 06:08:15
-2015-10-28 06:08:15
-2015-10-28 06:08:15
-2015-10-28 06:08:15
-2015-10-28 06:08:15
-2015-10-28 06:08:15
-2015-10-28 06:08:15
-2015-10-28 06:08:15
-2015-10-28 06:08:15
-2015-10-28 06:08:15
-2015-10-28 06:08:15
-2015-10-28 06:08:16
-2015-10-28 06:08:16
-2015-10-28 06:08:16
-2015-10-28 06:08:16
-2015-10-28 06:08:16
-2015-10-28 06:08:16
-2015-10-28 06:08:16
-2015-10-28 06:08:16
-2015-10-28 06:08:16
-2015-10-28 06:08:16
-2015-10-28 06:08:16
-2015-10-28 06:08:16
-2015-10-28 06:08:16
-2015-10-28 06:08:16
-2015-10-28 06:08:16
-2015-10-28 06:08:16
-2015-10-28 06:08:16
-2015-10-28 06:08:16
-2015-10-28 06:08:16
-2015-10-28 06:08:16
-2015-10-28 06:08:16
-2015-10-28 06:08:16
-2015-10-28 06:08:16
-2015-10-28 06:08:16
-2015-10-28 06:08:16
-2015-10-28 06:08:16
-2015-10-28 06:08:16
-2015-10-28 06:08:16
-2015-10-28 06:08:16
-2015-10-28 06:08:16
-2015-10-28 06:08:16
-2015-10-28 06:08:16
-2015-10-28 06:08:17
-2015-10-28 06:08:17
-2015-10-28 06:08:17
-2015-10-28 06:08:02
-2015-10-28 06:08:02
-2015-10-28 06:08:02
-2015-10-28 06:08:02
-2015-10-28 06:08:02
-2015-10-28 06:08:02
-2015-10-28 06:08:02
-2015-10-28 06:08:02
-2015-10-28 06:08:02
-2015-10-28 06:08:02
-2015-10-28 06:08:02
-2015-10-28 06:08:02
-2015-10-28 06:08:02
-2015-10-28 06:08:02
-2015-10-28 06:08:02
-2015-10-28 06:08:02
-2015-10-28 06:08:02
-2015-10-28 06:08:02
-2015-10-28 06:08:02
-2015-10-28 06:08:02
-2015-10-28 06:08:02
-2015-10-28 06:08:02
-2015-10-28 06:08:02
-2015-10-28 06:08:02
-2015-10-28 06:08:02
-2015-10-28 06:08:02
-2015-10-28 06:08:02
-2015-10-28 06:08:02
-2015-10-28 06:08:02
-2015-10-28 06:08:02
-2015-10-28 06:08:02
-2015-10-28 06:08:02
-2015-10-28 06:08:02
-2015-10-28 06:08:02
-2015-10-28 06:08:02
-2015-10-28 06:08:02
-2015-10-28 06:08:02
-2015-10-28 06:08:03
-2015-10-28 06:08:03
-2015-10-28 06:08:03
-2015-10-28 06:08:03
-2015-10-28 06:08:03
-2015-10-28 06:08:03
-2015-10-28 06:08:03
-2015-10-28 06:08:03
-2015-10-28 06:08:03
-2015-10-28 06:08:03
-2015-10-28 06:08:03
-2015-10-28 06:08:03
-2015-10-28 06:08:03
-2015-10-28 06:08:03
-2015-10-28 06:08:03
-2015-10-28 06:08:03
-2015-10-28 06:08:03
-2015-10-28 06:08:03
-2015-10-28 06:08:03
-2015-10-28 06:08:03
-2015-10-28 06:08:03
-2015-10-28 06:08:03
-2015-10-28 06:08:03
-2015-10-28 06:08:03
-2015-10-28 06:08:03
-2015-10-28 06:08:04
-2015-10-28 06:08:03
-2015-10-28 06:08:03
-2015-10-28 06:08:04
-2015-10-28 06:08:04
-2015-10-28 06:08:04
-2015-10-28 06:08:04
-2015-10-28 06:08:04
-2015-10-28 06:08:04
-2015-10-28 06:08:04
-2015-10-28 06:08:04
-2015-10-28 06:08:04
-2015-10-28 06:08:04
-2015-10-28 06:08:04
-2015-10-28 06:08:04
-2015-10-28 06:08:04
-2015-10-28 06:08:04
-2015-10-28 06:08:04
-2015-10-28 06:08:04
-2015-10-28 06:08:04
-2015-10-28 06:08:04
-2015-10-28 06:08:04
-2015-10-28 06:08:04
-2015-10-28 06:08:04
-2015-10-28 06:08:04
-2015-10-28 06:08:04
-2015-10-28 06:08:04
-2015-10-28 06:08:04
-2015-10-28 06:08:04
-2015-10-28 06:08:04
-2015-10-28 06:08:05
-2015-10-28 06:08:05
-2015-10-28 06:08:05
-2015-10-28 06:08:04
-2015-10-28 06:08:04
-2015-10-28 06:08:04
-2015-10-28 06:08:05
-2015-10-28 06:08:05
-2015-10-28 06:08:05
-2015-10-28 06:08:05
-2015-10-28 06:08:05
-2015-10-28 06:08:05
-2015-10-28 06:08:05
-2015-10-28 06:08:05
-2015-10-28 06:08:05
-2015-10-28 06:08:05
-2015-10-28 06:08:05
-2015-10-28 06:08:05
-2015-10-28 06:08:05
-2015-10-28 06:08:05
-2015-10-28 06:08:05
-2015-10-28 06:08:05
-2015-10-28 06:08:05
-2015-10-28 06:08:05
-2015-10-28 06:08:05
-2015-10-28 06:08:05
-2015-10-28 06:08:05
-2015-10-28 06:08:05
-2015-10-28 06:08:05
-2015-10-28 06:08:05
-2015-10-28 06:08:05
-2015-10-28 06:08:05
-2015-10-28 06:08:05
-2015-10-28 06:08:05
-2015-10-28 06:08:05
-2015-10-28 06:08:05
-2015-10-28 06:08:05
-2015-10-28 06:08:06
-2015-10-28 06:08:06
-2015-10-28 06:08:06
-2015-10-28 06:08:06
-2015-10-28 06:08:06
-2015-10-28 06:08:06
-2015-10-28 06:08:06
-2015-10-28 06:08:06
-2015-10-28 06:08:06
-2015-10-28 06:08:06
-2015-10-28 06:08:06
-2015-10-28 06:08:06
-2015-10-28 06:08:06
-2015-10-28 06:08:06
-2015-10-28 06:08:06
-2015-10-28 06:08:06
-2015-10-28 06:08:06
-2015-10-28 06:08:06
-2015-10-28 06:08:06
-2015-10-28 06:08:06
-2015-10-28 06:08:06
-2015-10-28 06:08:06
-2015-10-28 06:08:06
-2015-10-28 06:08:06
-2015-10-28 06:08:06
-2015-10-28 06:08:06
-2015-10-28 06:08:06
-2015-10-28 06:08:06
-2015-10-28 06:08:06
-2015-10-28 06:08:06
-2015-10-28 06:08:06
-2015-10-28 06:08:06
-2015-10-28 06:08:06
-2015-10-28 06:08:06
-2015-10-28 06:08:06
-2015-10-28 06:08:06
-2015-10-28 06:08:06
-2015-10-28 06:08:06
-2015-10-28 06:08:06
-2015-10-28 06:08:06
-2015-10-28 06:08:06
-2015-10-28 06:08:06
-2015-10-28 06:08:07
-2015-10-28 06:08:07
-2015-10-28 06:08:07
-2015-10-28 06:08:07
-2015-10-28 06:08:07
-2015-10-28 06:08:07
-2015-10-28 06:08:07
-2015-10-28 06:08:07
-2015-10-28 06:08:07
-2015-10-28 06:08:07
-2015-10-28 06:08:07
-2015-10-28 06:08:07
-2015-10-28 06:08:07
-2015-10-28 06:08:07
-2015-10-28 06:08:07
-2015-10-28 06:08:06
-2015-10-28 06:08:07
-2015-10-28 06:08:07
-2015-10-28 06:08:07
-2015-10-28 06:08:07
-2015-10-28 06:08:07
-2015-10-28 06:08:07
-2015-10-28 06:08:08
-2015-10-28 06:08:08
-2015-10-28 06:08:07
-2015-10-28 06:08:07
-2015-10-28 06:08:07
-2015-10-28 06:08:07
-2015-10-28 06:08:07
-2015-10-28 06:08:07
-2015-10-28 06:08:07
-2015-10-28 06:08:07
-2015-10-28 06:08:07
-2015-10-28 06:08:07
-2015-10-28 06:08:07
-2015-10-28 06:08:07
-2015-10-28 06:08:07
-2015-10-28 06:08:07
-2015-10-28 06:08:07
-2015-10-28 06:08:07
-2015-10-28 06:08:07
-2015-10-28 06:08:07
-2015-10-28 06:08:07
-2015-10-28 06:08:07
-2015-10-28 06:08:07
-2015-10-28 06:08:07
-2015-10-28 06:08:08
-2015-10-28 06:08:08
-2015-10-28 06:08:08
-2015-10-28 06:08:08
-2015-10-28 06:08:08
-2015-10-28 06:08:08
-2015-10-28 06:08:08
-2015-10-28 06:08:08
-2015-10-28 06:08:08
-2015-10-28 06:08:08
-2015-10-28 06:08:08
-2015-10-28 06:08:08
-2015-10-28 06:08:08
-2015-10-28 06:08:08
-2015-10-28 06:08:08
-2015-10-28 06:08:08
-2015-10-28 06:08:08
-2015-10-28 06:08:08
-2015-10-28 06:08:08
-2015-10-28 06:08:08
-2015-10-28 06:08:08
-2015-10-28 06:08:08
-2015-10-28 06:08:08
-2015-10-28 06:08:08
-2015-10-28 06:08:08
-2015-10-28 06:08:09
-2015-10-28 06:08:09
-2015-10-28 06:08:09
-2015-10-28 06:08:09
-2015-10-28 06:08:09
-2015-10-28 06:08:09
-2015-10-28 06:08:09
-2015-10-28 06:08:09
-2015-10-28 06:08:09
-2015-10-28 06:08:09
-2015-10-28 06:08:09
-2015-10-28 06:08:09
-2015-10-28 06:08:09
-2015-10-28 06:08:09
-2015-10-28 06:08:09
-2015-10-28 06:08:09
-2015-10-28 06:08:09
-2015-10-28 06:08:09
-2015-10-28 06:08:09
-2015-10-28 06:08:09
-2015-10-28 06:08:09
-2015-10-28 06:08:09
-2015-10-28 06:08:09
-2015-10-28 06:08:09
-2015-10-28 06:08:09
-2015-10-28 06:08:09
-2015-10-28 06:08:09
-2015-10-28 06:08:09
-2015-10-28 06:08:09
-2015-10-28 06:08:09
-2015-10-28 06:08:09
-2015-10-28 06:08:09
-2015-10-28 06:08:09
-2015-10-28 06:08:09
-2015-10-28 06:08:09
-2015-10-28 06:08:09
-2015-10-28 06:08:09
-2015-10-28 06:08:09
-2015-10-28 06:08:09
-2015-10-28 06:08:09
-2015-10-28 06:08:09
-2015-10-28 06:08:09
-2015-10-28 06:08:10
-2015-10-28 06:08:10
-2015-10-28 06:08:11
-2015-10-28 06:08:10
-2015-10-28 06:08:10
-2015-10-28 06:08:10
-2015-10-28 06:08:09
-2015-10-28 06:08:10
-2015-10-28 06:08:10
-2015-10-28 06:08:10
-2015-10-28 06:08:10
-2015-10-28 06:08:10
-2015-10-28 06:08:10
-2015-10-28 06:08:10
-2015-10-28 06:08:10
-2015-10-28 06:08:10
-2015-10-28 06:08:10
-2015-10-28 06:08:10
-2015-10-28 06:08:10
-2015-10-28 06:08:10
-2015-10-28 06:08:10
-2015-10-28 06:08:10
-2015-10-28 06:08:10
-2015-10-28 06:08:10
-2015-10-28 06:08:10
-2015-10-28 06:08:10
-2015-10-28 06:08:10
-2015-10-28 06:08:10
-2015-10-28 06:08:10
-2015-10-28 06:08:10
-2015-10-28 06:08:10
-2015-10-28 06:08:10
-2015-10-28 06:08:10
-2015-10-28 06:08:10
-2015-10-28 06:08:10
-2015-10-28 06:08:10
-2015-10-28 06:08:10
-2015-10-28 06:08:10
-2015-10-28 06:08:10
-2015-10-28 06:08:10
-2015-10-28 06:08:10
-2015-10-28 06:08:10
-2015-10-28 06:08:10
-2015-10-28 06:08:10
-2015-10-28 06:08:10
-2015-10-28 06:08:11
-2015-10-28 06:08:11
-2015-10-28 06:08:11
-2015-10-28 06:08:11
-2015-10-28 06:08:11
-2015-10-28 06:08:11
-2015-10-28 06:08:11
-2015-10-28 06:08:11
-2015-10-28 06:08:11
-2015-10-28 06:08:11
-2015-10-28 06:08:11
-2015-10-28 06:08:11
-2015-10-28 06:08:11
-2015-10-28 06:08:11
-2015-10-28 06:08:11
-2015-10-28 06:08:11
-2015-10-28 06:08:11
-2015-10-28 06:08:11
-2015-10-28 06:08:11
-2015-10-28 06:08:11
-2015-10-28 06:08:11
-2015-10-28 06:08:11
-2015-10-28 06:08:11
-2015-10-28 06:08:11
-2015-10-28 06:08:11
-2015-10-28 06:08:11
-2015-10-28 06:08:11
-2015-10-28 06:08:11
-2015-10-28 06:08:11
-2015-10-28 06:08:11
-2015-10-28 06:08:11
-2015-10-28 06:08:11
-2015-10-28 06:08:11
-2015-10-28 06:08:11
-2015-10-28 06:08:11
-2015-10-28 06:08:11
-2015-10-28 06:08:12
-2015-10-28 06:08:12
-2015-10-28 06:08:12
-2015-10-28 06:08:12
-2015-10-28 06:08:12
-2015-10-28 06:08:12
-2015-10-28 06:08:13
-2015-10-28 06:08:13
-2015-10-28 06:08:12
-2015-10-28 06:08:12
-2015-10-28 06:08:12
-2015-10-28 06:08:12
-2015-10-28 06:08:12
-2015-10-28 06:08:12
-2015-10-28 06:08:12
-2015-10-28 06:08:12
-2015-10-28 06:08:12
-2015-10-28 06:08:12
-2015-10-28 06:08:12
-2015-10-28 06:08:12
-2015-10-28 06:08:12
-2015-10-28 06:08:12
-2015-10-28 06:08:12
-2015-10-28 06:08:12
-2015-10-28 06:08:12
-2015-10-28 06:08:12
-2015-10-28 06:08:12
-2015-10-28 06:08:12
-2015-10-28 06:08:12
-2015-10-28 06:08:12
-2015-10-28 06:08:12
-2015-10-28 06:08:12
-2015-10-28 06:08:12
-2015-10-28 06:08:12
-2015-10-28 06:08:12
-2015-10-28 06:08:12
-2015-10-28 06:08:12
-2015-10-28 06:08:12
-2015-10-28 06:08:12
-2015-10-28 06:08:12
-2015-10-28 06:08:12
-2015-10-28 06:08:12
-2015-10-28 06:08:12
-2015-10-28 06:08:12
-2015-10-28 06:08:12
-2015-10-28 06:08:12
-2015-10-28 06:08:13
-2015-10-28 06:08:13
-2015-10-28 06:08:13
-2015-10-28 06:08:13
-2015-10-28 06:08:13
-2015-10-28 06:08:13
-2015-10-28 06:08:13
-2015-10-28 06:08:13
-2015-10-28 06:08:13
-2015-10-28 06:08:13
-2015-10-28 06:08:13
-2015-10-28 06:08:13
-2015-10-28 06:08:13
-2015-10-28 06:08:13
-2015-10-28 06:08:13
-2015-10-28 06:08:13
-2015-10-28 06:08:13
-2015-10-28 06:08:13
-2015-10-28 06:08:13
-2015-10-28 06:08:13
-2015-10-28 06:08:14
-2015-10-28 06:08:14
-2015-10-28 06:08:14
-2015-10-28 06:08:14
-2015-10-28 06:08:14
-2015-10-28 06:08:14
-2015-10-28 06:08:14
-2015-10-28 06:08:14
-2015-10-28 06:08:14
-2015-10-28 06:08:13
-2015-10-28 06:08:13
-2015-10-28 06:08:13
-2015-10-28 06:08:13
-2015-10-28 06:08:13
-2015-10-28 06:08:13
-2015-10-28 06:08:14
-2015-10-28 06:08:14
-2015-10-28 06:08:14
-2015-10-28 06:08:14
-2015-10-28 06:08:14
-2015-10-28 06:08:14
-2015-10-28 06:08:14
-2015-10-28 06:08:14
-2015-10-28 06:08:14
-2015-10-28 06:08:14
-2015-10-28 06:08:14
-2015-10-28 06:08:14
-2015-10-28 06:08:14
-2015-10-28 06:08:14
-2015-10-28 06:08:14
-2015-10-28 06:08:16
-2015-10-28 06:08:16
-2015-10-28 06:08:15
-2015-10-28 06:08:15
-2015-10-28 06:08:15
-2015-10-28 06:08:15
-2015-10-28 06:08:15
-2015-10-28 06:08:15
-2015-10-28 06:08:15
-2015-10-28 06:08:15
-2015-10-28 06:08:15
-2015-10-28 06:08:15
-2015-10-28 06:08:15
-2015-10-28 06:08:15
-2015-10-28 06:08:15
-2015-10-28 06:08:15
-2015-10-28 06:08:15
-2015-10-28 06:08:15
-2015-10-28 06:08:15
-2015-10-28 06:08:15
-2015-10-28 06:08:15
-2015-10-28 06:08:15
-2015-10-28 06:08:15
-2015-10-28 06:08:15
-2015-10-28 06:08:15
-2015-10-28 06:08:15
-2015-10-28 06:08:15
-2015-10-28 06:08:15
-2015-10-28 06:08:15
-2015-10-28 06:08:15
-2015-10-28 06:08:15
-2015-10-28 06:08:15
-2015-10-28 06:08:15
-2015-10-28 06:08:15
-2015-10-28 06:08:15
-2015-10-28 06:08:15
-2015-10-28 06:08:15
-2015-10-28 06:08:15
-2015-10-28 06:08:15
-2015-10-28 06:08:15
-2015-10-28 06:08:15
-2015-10-28 06:08:15
-2015-10-28 06:08:15
-2015-10-28 06:08:16
-2015-10-28 06:08:16
-2015-10-28 06:08:16
-2015-10-28 06:08:16
-2015-10-28 06:08:16
-2015-10-28 06:08:16
-2015-10-28 06:08:16
-2015-10-28 06:08:16
-2015-10-28 06:08:16
-2015-10-28 06:08:16
-2015-10-28 06:08:16
-2015-10-28 06:08:16
-2015-10-28 06:08:16
-2015-10-28 06:08:16
-2015-10-28 06:08:16
-2015-10-28 06:08:16
-2015-10-28 06:08:16
-2015-10-28 06:08:16
-2015-10-28 06:08:16
-2015-10-28 06:08:16
-2015-10-28 06:08:16
-2015-10-28 06:08:16
-2015-10-28 06:08:16
-2015-10-28 06:08:16
-2015-10-28 06:08:16
-2015-10-28 06:08:16
-2015-10-28 06:08:16
-2015-10-28 06:08:16
-2015-10-28 06:08:16
-2015-10-28 06:08:16
-2015-10-28 06:08:16
-2015-10-28 06:08:16
-2015-10-28 06:08:16
-2015-10-28 06:08:16
-2015-10-28 06:08:16
-2015-10-28 06:08:17
-2015-10-28 06:08:17
-2015-10-28 06:08:17
-2015-10-28 06:08:17
-2015-10-28 06:08:17
-2015-10-28 06:08:17
-2015-10-28 06:08:17
-2015-10-28 06:08:17
-2015-10-28 06:08:17
-2015-10-28 06:08:17
-2015-10-28 06:08:17
-2015-10-28 06:08:17
-2015-10-28 06:08:17
-2015-10-28 06:08:17
7.1 KiB2015-10-28 06:08:02
7.1 KiB2015-10-28 06:08:02
7.0 KiB2015-10-28 06:08:02
2.6 KiB2015-10-28 06:08:05
626.3 KiB2015-10-28 06:08:16
5.7 MiB2015-10-28 06:08:09
5.9 KiB2015-10-28 06:08:09
90.9 KiB2015-10-28 06:08:09
1.2 MiB2015-10-28 06:08:09
216.4 KiB2015-10-28 06:08:10
6.0 KiB2015-10-28 06:08:11
85.7 KiB2015-10-28 06:08:11
1.1 MiB2015-10-28 06:08:11
5.6 KiB2015-10-28 06:08:11
87.5 KiB2015-10-28 06:08:11
1.1 MiB2015-10-28 06:08:11
6.1 KiB2015-10-28 06:08:12
89.3 KiB2015-10-28 06:08:12
1.1 MiB2015-10-28 06:08:12
8.2 KiB2015-10-30 17:52:52
5.1 KiB2015-10-28 06:08:14
14.7 MiB2015-10-28 06:08:14
6.1 KiB2015-10-28 06:08:17
91.3 KiB2015-10-28 06:08:17
1.3 MiB2015-10-28 06:08:17
5.8 KiB2015-10-28 06:08:17
86.1 KiB2015-10-28 06:08:17
998.3 KiB2015-10-28 06:08:17